Package: cola Version: 2.2.0 Command: /Library/Frameworks/R.framework/Resources/bin/R CMD INSTALL cola StartedAt: 2022-10-18 15:36:25 -0400 (Tue, 18 Oct 2022) EndedAt: 2022-10-18 15:37:29 -0400 (Tue, 18 Oct 2022) EllapsedTime: 64.1 seconds RetCode: 0 Status: OK