Package: coRdon Version: 1.14.0 Command: F:\biocbuild\bbs-3.15-bioc\R\bin\R.exe CMD check --no-multiarch --install=check:coRdon.install-out.txt --library=F:\biocbuild\bbs-3.15-bioc\R\library --no-vignettes --timings coRdon_1.14.0.tar.gz StartedAt: 2022-10-18 23:13:38 -0400 (Tue, 18 Oct 2022) EndedAt: 2022-10-18 23:15:55 -0400 (Tue, 18 Oct 2022) EllapsedTime: 137.4 seconds RetCode: 0 Status: OK CheckDir: coRdon.Rcheck Warnings: 0