Package: cn.farms Version: 1.44.0 Command: rm -rf cn.farms.buildbin-libdir && mkdir cn.farms.buildbin-libdir && /Users/biocbuild/BBS/utils/build-universal.sh cn.farms_1.44.0.tar.gz /Library/Frameworks/R.framework/Resources/bin/R cn.farms.buildbin-libdir StartedAt: 2022-10-19 10:07:06 -0400 (Wed, 19 Oct 2022) EndedAt: 2022-10-19 10:08:09 -0400 (Wed, 19 Oct 2022) EllapsedTime: 63.3 seconds RetCode: 0 Status: OK PackageFile: cn.farms_1.44.0.tgz PackageFileSize: 2.457 MiB