Package: cellxgenedp Version: 1.0.1 Command: /home/biocbuild/bbs-3.15-bioc/R/bin/R CMD check --install=check:cellxgenedp.install-out.txt --library=/home/biocbuild/bbs-3.15-bioc/R/library --no-vignettes --timings cellxgenedp_1.0.1.tar.gz StartedAt: 2022-10-16 18:51:27 -0400 (Sun, 16 Oct 2022) EndedAt: 2022-10-16 18:52:18 -0400 (Sun, 16 Oct 2022) EllapsedTime: 50.7 seconds RetCode: 0 Status: OK CheckDir: cellxgenedp.Rcheck Warnings: 0