Package: cellxgenedp Version: 1.0.1 Command: /Library/Frameworks/R.framework/Resources/bin/R CMD check --install=check:cellxgenedp.install-out.txt --library=/Library/Frameworks/R.framework/Resources/library --no-vignettes --timings cellxgenedp_1.0.1.tar.gz StartedAt: 2022-10-19 00:20:33 -0400 (Wed, 19 Oct 2022) EndedAt: 2022-10-19 00:22:58 -0400 (Wed, 19 Oct 2022) EllapsedTime: 144.4 seconds RetCode: 1 Status: ERROR CheckDir: cellxgenedp.Rcheck Warnings: NA