Package: cellscape Version: 1.20.0 Command: F:\biocbuild\bbs-3.15-bioc\R\bin\R.exe CMD INSTALL cellscape StartedAt: 2022-10-18 15:50:14 -0400 (Tue, 18 Oct 2022) EndedAt: 2022-10-18 15:50:50 -0400 (Tue, 18 Oct 2022) EllapsedTime: 36.1 seconds RetCode: 0 Status: OK