Package: bugsigdbr Version: 1.2.2 Command: F:\biocbuild\bbs-3.15-bioc\R\bin\R.exe CMD check --no-multiarch --install=check:bugsigdbr.install-out.txt --library=F:\biocbuild\bbs-3.15-bioc\R\library --no-vignettes --timings bugsigdbr_1.2.2.tar.gz StartedAt: 2022-10-18 22:35:12 -0400 (Tue, 18 Oct 2022) EndedAt: 2022-10-18 22:37:11 -0400 (Tue, 18 Oct 2022) EllapsedTime: 118.4 seconds RetCode: 1 Status: ERROR CheckDir: bugsigdbr.Rcheck Warnings: NA