git_url: https://git.bioconductor.org/packages/biodbKegg git_branch: RELEASE_3_15 git_last_commit: 481fcb5 git_last_commit_date: 2022-09-22 17:11:36 -0400 (Thu, 22 Sep 2022) Package: biodbKegg Version: 1.2.1 Maintainer: Pierrick Roger MaintainerEmail: pierrick.roger at cea.fr