Package: baySeq Version: 2.29.0 Command: rm -rf baySeq.buildbin-libdir && mkdir baySeq.buildbin-libdir && D:\biocbuild\bbs-3.15-bioc\R\bin\R.exe CMD INSTALL --build --library=baySeq.buildbin-libdir baySeq_2.29.0.tar.gz StartedAt: 2022-03-17 20:54:12 -0400 (Thu, 17 Mar 2022) EndedAt: 2022-03-17 20:55:48 -0400 (Thu, 17 Mar 2022) EllapsedTime: 96.0 seconds RetCode: 0 Status: OK PackageFile: baySeq_2.29.0.zip PackageFileSize: 1.592 MiB