Package: basecallQC Version: 1.19.0 Command: chmod a+r basecallQC -R && D:\biocbuild\bbs-3.15-bioc\R\bin\R.exe CMD build --keep-empty-dirs --no-resave-data basecallQC StartedAt: 2022-03-17 16:24:09 -0400 (Thu, 17 Mar 2022) EndedAt: 2022-03-17 16:24:13 -0400 (Thu, 17 Mar 2022) EllapsedTime: 4.5 seconds RetCode: 1 Status: ERROR PackageFile: None PackageFileSize: NA