Welcome to mirrors.dotsrc.org

All our mirrors of open source software are available via http, https, ftp and an onion service. More information about our mirrors including statistics and contact information is available on our mirror info pages.

For information about dotsrc.org and our other services please go to our website.

Index of /bioconductor/checkResults/3.15/bioc-LATEST/appreci8R/raw-results/merida1/

File Name  ↓ File Size  ↓ Date  ↓ 
--
1.2 KiB2022-10-19 17:22:33
543 B2022-10-19 17:22:33
896 B2022-10-19 17:22:33
433 B2022-10-19 17:22:33
3.0 KiB2022-10-19 17:22:33
452 B2022-10-19 17:22:33
986 B2022-10-19 17:22:33
274 B2022-10-19 17:22:33