Package: annotatr Version: 1.22.0 Command: /home/biocbuild/bbs-3.15-bioc/R/bin/R CMD build --keep-empty-dirs --no-resave-data annotatr StartedAt: 2022-10-18 15:57:07 -0400 (Tue, 18 Oct 2022) EndedAt: 2022-10-18 15:58:56 -0400 (Tue, 18 Oct 2022) EllapsedTime: 109.2 seconds RetCode: 0 Status: OK PackageFile: annotatr_1.22.0.tar.gz PackageFileSize: 2.327 MiB