Package: altcdfenvs Version: 2.58.0 Command: /Library/Frameworks/R.framework/Resources/bin/R CMD build --keep-empty-dirs --no-resave-data altcdfenvs StartedAt: 2022-10-18 16:49:14 -0400 (Tue, 18 Oct 2022) EndedAt: 2022-10-18 16:50:34 -0400 (Tue, 18 Oct 2022) EllapsedTime: 80.3 seconds RetCode: 0 Status: OK PackageFile: altcdfenvs_2.58.0.tar.gz PackageFileSize: 648.3 KiB