Package: affylmGUI Version: 1.70.0 Command: /Library/Frameworks/R.framework/Resources/bin/R CMD check --install=check:affylmGUI.install-out.txt --library=/Library/Frameworks/R.framework/Resources/library --no-vignettes --timings affylmGUI_1.70.0.tar.gz StartedAt: 2022-10-18 23:04:24 -0400 (Tue, 18 Oct 2022) EndedAt: 2022-10-18 23:07:40 -0400 (Tue, 18 Oct 2022) EllapsedTime: 196.1 seconds RetCode: 0 Status: OK CheckDir: affylmGUI.Rcheck Warnings: 0