git_url: https://git.bioconductor.org/packages/affxparser git_branch: RELEASE_3_15 git_last_commit: 821a01a git_last_commit_date: 2022-04-28 22:46:16 -0400 (Thu, 28 Apr 2022) Package: affxparser Version: 1.68.1 Maintainer: Kasper Daniel Hansen MaintainerEmail: kasperdanielhansen at gmail.com