Package: XCIR Version: 1.9.0 Command: D:\biocbuild\bbs-3.15-bioc\R\bin\R.exe CMD INSTALL XCIR StartedAt: 2022-03-17 16:13:28 -0400 (Thu, 17 Mar 2022) EndedAt: 2022-03-17 16:15:14 -0400 (Thu, 17 Mar 2022) EllapsedTime: 106.6 seconds RetCode: 0 Status: OK