Package: TargetScore Version: 1.34.0 Command: chmod a+r TargetScore -R && F:\biocbuild\bbs-3.15-bioc\R\bin\R.exe CMD build --keep-empty-dirs --no-resave-data TargetScore StartedAt: 2022-10-18 21:24:32 -0400 (Tue, 18 Oct 2022) EndedAt: 2022-10-18 21:25:03 -0400 (Tue, 18 Oct 2022) EllapsedTime: 30.9 seconds RetCode: 0 Status: OK PackageFile: TargetScore_1.34.0.tar.gz PackageFileSize: 1.225 MiB