Package: TCGAutils Version: 1.16.1 Command: /home/biocbuild/bbs-3.15-bioc/R/bin/R CMD check --install=check:TCGAutils.install-out.txt --library=/home/biocbuild/bbs-3.15-bioc/R/library --no-vignettes --timings TCGAutils_1.16.1.tar.gz StartedAt: 2022-10-13 21:58:09 -0400 (Thu, 13 Oct 2022) EndedAt: 2022-10-13 22:04:28 -0400 (Thu, 13 Oct 2022) EllapsedTime: 378.8 seconds RetCode: 0 Status: OK CheckDir: TCGAutils.Rcheck Warnings: 0