Package: SpatialExperiment Version: 1.5.4 Command: D:\biocbuild\bbs-3.15-bioc\R\bin\R.exe CMD INSTALL SpatialExperiment StartedAt: 2022-03-17 15:47:37 -0400 (Thu, 17 Mar 2022) EndedAt: 2022-03-17 15:48:48 -0400 (Thu, 17 Mar 2022) EllapsedTime: 70.7 seconds RetCode: 0 Status: OK