Package: SpatialExperiment Version: 1.6.1 Command: /home/biocbuild/bbs-3.15-bioc/R/bin/R CMD build --keep-empty-dirs --no-resave-data SpatialExperiment StartedAt: 2022-10-18 18:09:57 -0400 (Tue, 18 Oct 2022) EndedAt: 2022-10-18 18:11:07 -0400 (Tue, 18 Oct 2022) EllapsedTime: 69.1 seconds RetCode: 0 Status: OK PackageFile: SpatialExperiment_1.6.1.tar.gz PackageFileSize: 5.14 MiB