Package: SpacePAC Version: 1.33.0 Command: chmod a+r SpacePAC -R && D:\biocbuild\bbs-3.15-bioc\R\bin\R.exe CMD build --keep-empty-dirs --no-resave-data SpacePAC StartedAt: 2022-03-17 18:06:22 -0400 (Thu, 17 Mar 2022) EndedAt: 2022-03-17 18:07:16 -0400 (Thu, 17 Mar 2022) EllapsedTime: 54.2 seconds RetCode: 0 Status: OK PackageFile: SpacePAC_1.33.0.tar.gz PackageFileSize: 1.738 MiB