Package: SeqGate Version: 1.6.0 Command: /home/biocbuild/bbs-3.15-bioc/R/bin/R CMD check --install=check:SeqGate.install-out.txt --library=/home/biocbuild/bbs-3.15-bioc/R/library --no-vignettes --timings SeqGate_1.6.0.tar.gz StartedAt: 2022-10-18 21:48:05 -0400 (Tue, 18 Oct 2022) EndedAt: 2022-10-18 21:50:17 -0400 (Tue, 18 Oct 2022) EllapsedTime: 131.7 seconds RetCode: 0 Status: OK CheckDir: SeqGate.Rcheck Warnings: 0