Package: SemDist Version: 1.30.0 Command: /Library/Frameworks/R.framework/Resources/bin/R CMD check --install=check:SemDist.install-out.txt --library=/Library/Frameworks/R.framework/Resources/library --no-vignettes --timings SemDist_1.30.0.tar.gz StartedAt: 2022-10-19 07:53:20 -0400 (Wed, 19 Oct 2022) EndedAt: 2022-10-19 07:57:46 -0400 (Wed, 19 Oct 2022) EllapsedTime: 266.2 seconds RetCode: 0 Status: OK CheckDir: SemDist.Rcheck Warnings: 0