Package: SemDist Version: 1.30.0 Command: rm -rf SemDist.buildbin-libdir && mkdir SemDist.buildbin-libdir && /Users/biocbuild/BBS/utils/build-universal.sh SemDist_1.30.0.tar.gz /Library/Frameworks/R.framework/Resources/bin/R SemDist.buildbin-libdir StartedAt: 2022-10-19 11:10:26 -0400 (Wed, 19 Oct 2022) EndedAt: 2022-10-19 11:10:58 -0400 (Wed, 19 Oct 2022) EllapsedTime: 32.2 seconds RetCode: 0 Status: OK PackageFile: SemDist_1.30.0.tgz PackageFileSize: 1.977 MiB