Package: SamSPECTRAL Version: 1.50.0 Command: rm -rf SamSPECTRAL.buildbin-libdir && mkdir SamSPECTRAL.buildbin-libdir && F:\biocbuild\bbs-3.15-bioc\R\bin\R.exe CMD INSTALL --build --library=SamSPECTRAL.buildbin-libdir SamSPECTRAL_1.50.0.tar.gz StartedAt: 2022-10-19 06:31:31 -0400 (Wed, 19 Oct 2022) EndedAt: 2022-10-19 06:31:46 -0400 (Wed, 19 Oct 2022) EllapsedTime: 15.5 seconds RetCode: 0 Status: OK PackageFile: SamSPECTRAL_1.50.0.zip PackageFileSize: 897.7 KiB