Package: SNAGEE Version: 1.36.0 Command: /home/biocbuild/bbs-3.15-bioc/R/bin/R CMD INSTALL SNAGEE StartedAt: 2022-10-18 15:51:39 -0400 (Tue, 18 Oct 2022) EndedAt: 2022-10-18 15:51:41 -0400 (Tue, 18 Oct 2022) EllapsedTime: 2.3 seconds RetCode: 0 Status: OK