git_url: https://git.bioconductor.org/packages/SC3 git_branch: RELEASE_3_15 git_last_commit: 6b37d29 git_last_commit_date: 2022-04-26 11:28:56 -0400 (Tue, 26 Apr 2022) Package: SC3 Version: 1.24.0 Maintainer: Vladimir Kiselev MaintainerEmail: vladimir.yu.kiselev at gmail.com