Package: RaggedExperiment Version: 1.20.1 Command: /Library/Frameworks/R.framework/Resources/bin/R CMD build --keep-empty-dirs --no-resave-data RaggedExperiment StartedAt: 2022-10-18 20:59:18 -0400 (Tue, 18 Oct 2022) EndedAt: 2022-10-18 21:00:09 -0400 (Tue, 18 Oct 2022) EllapsedTime: 50.3 seconds RetCode: 0 Status: OK PackageFile: RaggedExperiment_1.20.1.tar.gz PackageFileSize: 371.2 KiB