Package: RTCGAToolbox Version: 2.26.1 Command: /Library/Frameworks/R.framework/Resources/bin/R CMD INSTALL RTCGAToolbox StartedAt: 2022-10-18 16:16:18 -0400 (Tue, 18 Oct 2022) EndedAt: 2022-10-18 16:17:06 -0400 (Tue, 18 Oct 2022) EllapsedTime: 47.7 seconds RetCode: 0 Status: OK