Package: RTCGAToolbox Version: 2.26.1 Command: /Library/Frameworks/R.framework/Resources/bin/R CMD check --install=check:RTCGAToolbox.install-out.txt --library=/Library/Frameworks/R.framework/Resources/library --no-vignettes --timings RTCGAToolbox_2.26.1.tar.gz StartedAt: 2022-10-14 07:12:09 -0400 (Fri, 14 Oct 2022) EndedAt: 2022-10-14 07:17:29 -0400 (Fri, 14 Oct 2022) EllapsedTime: 319.9 seconds RetCode: 0 Status: OK CheckDir: RTCGAToolbox.Rcheck Warnings: 0