Package: RNAdecay Version: 1.15.0 Command: D:\biocbuild\bbs-3.15-bioc\R\bin\R.exe CMD check --no-multiarch --install=check:RNAdecay.install-out.txt --library=D:\biocbuild\bbs-3.15-bioc\R\library --no-vignettes --timings RNAdecay_1.15.0.tar.gz StartedAt: 2022-03-17 20:05:28 -0400 (Thu, 17 Mar 2022) EndedAt: 2022-03-17 20:07:28 -0400 (Thu, 17 Mar 2022) EllapsedTime: 119.6 seconds RetCode: 0 Status: OK CheckDir: RNAdecay.Rcheck Warnings: 0