Package: RIPAT Version: 1.6.0 Command: /Library/Frameworks/R.framework/Resources/bin/R CMD build --keep-empty-dirs --no-resave-data RIPAT StartedAt: 2022-10-18 21:12:32 -0400 (Tue, 18 Oct 2022) EndedAt: 2022-10-18 21:30:07 -0400 (Tue, 18 Oct 2022) EllapsedTime: 1055.2 seconds RetCode: 0 Status: OK PackageFile: RIPAT_1.6.0.tar.gz PackageFileSize: 4.249 MiB