Package: QuaternaryProd Version: 1.30.0 Command: rm -rf QuaternaryProd.buildbin-libdir && mkdir QuaternaryProd.buildbin-libdir && F:\biocbuild\bbs-3.15-bioc\R\bin\R.exe CMD INSTALL --build --library=QuaternaryProd.buildbin-libdir QuaternaryProd_1.30.0.tar.gz StartedAt: 2022-10-19 06:23:57 -0400 (Wed, 19 Oct 2022) EndedAt: 2022-10-19 06:24:30 -0400 (Wed, 19 Oct 2022) EllapsedTime: 32.3 seconds RetCode: 0 Status: OK PackageFile: QuaternaryProd_1.30.0.zip PackageFileSize: 11.17 MiB