Package: Qtlizer Version: 1.10.0 Command: /Library/Frameworks/R.framework/Resources/bin/R CMD check --install=check:Qtlizer.install-out.txt --library=/Library/Frameworks/R.framework/Resources/library --no-vignettes --timings Qtlizer_1.10.0.tar.gz StartedAt: 2022-10-19 06:36:34 -0400 (Wed, 19 Oct 2022) EndedAt: 2022-10-19 06:37:15 -0400 (Wed, 19 Oct 2022) EllapsedTime: 40.9 seconds RetCode: 0 Status: OK CheckDir: Qtlizer.Rcheck Warnings: 0