Package: PoTRA Version: 1.11.0 Command: D:\biocbuild\bbs-3.15-bioc\R\bin\R.exe CMD INSTALL PoTRA StartedAt: 2022-03-17 15:44:55 -0400 (Thu, 17 Mar 2022) EndedAt: 2022-03-17 15:46:31 -0400 (Thu, 17 Mar 2022) EllapsedTime: 95.8 seconds RetCode: 0 Status: OK