Package: Pi Version: 2.8.0 Command: /Library/Frameworks/R.framework/Resources/bin/R CMD check --install=check:Pi.install-out.txt --library=/Library/Frameworks/R.framework/Resources/library --no-vignettes --timings Pi_2.8.0.tar.gz StartedAt: 2022-10-19 06:10:07 -0400 (Wed, 19 Oct 2022) EndedAt: 2022-10-19 06:16:47 -0400 (Wed, 19 Oct 2022) EllapsedTime: 399.4 seconds RetCode: 0 Status: WARNINGS CheckDir: Pi.Rcheck Warnings: 2