Package: PepsNMR Version: 1.14.0 Command: /home/biocbuild/bbs-3.15-bioc/R/bin/R CMD build --keep-empty-dirs --no-resave-data PepsNMR StartedAt: 2022-10-18 17:31:04 -0400 (Tue, 18 Oct 2022) EndedAt: 2022-10-18 17:37:42 -0400 (Tue, 18 Oct 2022) EllapsedTime: 398.0 seconds RetCode: 0 Status: OK PackageFile: PepsNMR_1.14.0.tar.gz PackageFileSize: 1.127 MiB