Package: PathoStat Version: 1.22.0 Command: /home/biocbuild/bbs-3.15-bioc/R/bin/R CMD build --keep-empty-dirs --no-resave-data PathoStat StartedAt: 2022-10-18 17:28:07 -0400 (Tue, 18 Oct 2022) EndedAt: 2022-10-18 17:29:39 -0400 (Tue, 18 Oct 2022) EllapsedTime: 92.1 seconds RetCode: 0 Status: OK PackageFile: PathoStat_1.22.0.tar.gz PackageFileSize: 947.5 KiB