Package: OpenStats Version: 1.8.0 Command: /Library/Frameworks/R.framework/Resources/bin/R CMD check --install=check:OpenStats.install-out.txt --library=/Library/Frameworks/R.framework/Resources/library --no-vignettes --timings OpenStats_1.8.0.tar.gz StartedAt: 2022-10-19 05:45:11 -0400 (Wed, 19 Oct 2022) EndedAt: 2022-10-19 05:48:18 -0400 (Wed, 19 Oct 2022) EllapsedTime: 186.6 seconds RetCode: 0 Status: OK CheckDir: OpenStats.Rcheck Warnings: 0