git_url: https://git.bioconductor.org/packages/OTUbase git_branch: RELEASE_3_15 git_last_commit: e7ff967 git_last_commit_date: 2022-04-26 11:05:52 -0400 (Tue, 26 Apr 2022) Package: OTUbase Version: 1.46.0 Maintainer: Daniel Beck MaintainerEmail: danlbek at gmail.com