Package: MiPP Version: 1.68.0 Command: /Library/Frameworks/R.framework/Resources/bin/R CMD INSTALL MiPP StartedAt: 2022-10-18 15:20:45 -0400 (Tue, 18 Oct 2022) EndedAt: 2022-10-18 15:20:53 -0400 (Tue, 18 Oct 2022) EllapsedTime: 7.9 seconds RetCode: 0 Status: OK