Package: MetID Version: 1.14.0 Command: /home/biocbuild/bbs-3.15-bioc/R/bin/R CMD check --install=check:MetID.install-out.txt --library=/home/biocbuild/bbs-3.15-bioc/R/library --no-vignettes --timings MetID_1.14.0.tar.gz StartedAt: 2022-10-18 20:33:06 -0400 (Tue, 18 Oct 2022) EndedAt: 2022-10-18 20:34:29 -0400 (Tue, 18 Oct 2022) EllapsedTime: 83.7 seconds RetCode: 0 Status: OK CheckDir: MetID.Rcheck Warnings: 0