Package: MCbiclust Version: 1.20.0 Command: chmod a+r MCbiclust -R && F:\biocbuild\bbs-3.15-bioc\R\bin\R.exe CMD build --keep-empty-dirs --no-resave-data MCbiclust StartedAt: 2022-10-18 19:22:29 -0400 (Tue, 18 Oct 2022) EndedAt: 2022-10-18 19:24:51 -0400 (Tue, 18 Oct 2022) EllapsedTime: 142.6 seconds RetCode: 0 Status: OK PackageFile: MCbiclust_1.20.0.tar.gz PackageFileSize: 3.68 MiB