git_url: https://git.bioconductor.org/packages/MCbiclust git_branch: RELEASE_3_15 git_last_commit: 957ec2f git_last_commit_date: 2022-04-26 11:38:48 -0400 (Tue, 26 Apr 2022) Package: MCbiclust Version: 1.20.0 Maintainer: Robert Bentham MaintainerEmail: robert.bentham.11 at ucl.ac.uk