Package: MAI Version: 1.2.0 Command: /Library/Frameworks/R.framework/Resources/bin/R CMD build --keep-empty-dirs --no-resave-data MAI StartedAt: 2022-10-18 19:25:06 -0400 (Tue, 18 Oct 2022) EndedAt: 2022-10-18 19:33:57 -0400 (Tue, 18 Oct 2022) EllapsedTime: 530.3 seconds RetCode: 0 Status: OK PackageFile: MAI_1.2.0.tar.gz PackageFileSize: 436.9 KiB