Package: LPEadj Version: 1.55.0 Command: rm -rf LPEadj.buildbin-libdir && mkdir LPEadj.buildbin-libdir && D:\biocbuild\bbs-3.15-bioc\R\bin\R.exe CMD INSTALL --build --library=LPEadj.buildbin-libdir LPEadj_1.55.0.tar.gz StartedAt: 2022-03-17 21:18:00 -0400 (Thu, 17 Mar 2022) EndedAt: 2022-03-17 21:19:17 -0400 (Thu, 17 Mar 2022) EllapsedTime: 77.8 seconds RetCode: 0 Status: OK PackageFile: LPEadj_1.55.0.zip PackageFileSize: 534.3 KiB