Package: KEGGgraph Version: 1.55.0 Command: rm -rf KEGGgraph.buildbin-libdir && mkdir KEGGgraph.buildbin-libdir && D:\biocbuild\bbs-3.15-bioc\R\bin\R.exe CMD INSTALL --build --library=KEGGgraph.buildbin-libdir KEGGgraph_1.55.0.tar.gz StartedAt: 2022-03-17 21:16:59 -0400 (Thu, 17 Mar 2022) EndedAt: 2022-03-17 21:18:15 -0400 (Thu, 17 Mar 2022) EllapsedTime: 76.3 seconds RetCode: 0 Status: OK PackageFile: KEGGgraph_1.55.0.zip PackageFileSize: 1.804 MiB