Package: ImmuneSpaceR Version: 1.23.0 Command: rm -rf ImmuneSpaceR.buildbin-libdir && mkdir ImmuneSpaceR.buildbin-libdir && D:\biocbuild\bbs-3.15-bioc\R\bin\R.exe CMD INSTALL --build --library=ImmuneSpaceR.buildbin-libdir ImmuneSpaceR_1.23.0.tar.gz StartedAt: 2022-03-17 21:15:28 -0400 (Thu, 17 Mar 2022) EndedAt: 2022-03-17 21:16:56 -0400 (Thu, 17 Mar 2022) EllapsedTime: 87.8 seconds RetCode: 0 Status: OK PackageFile: ImmuneSpaceR_1.23.0.zip PackageFileSize: 773.7 KiB