############################################################################## ############################################################################## ### ### Running command: ### ### D:\biocbuild\bbs-3.15-bioc\R\bin\R.exe CMD INSTALL INDEED ### ############################################################################## ############################################################################## * installing to library 'D:/biocbuild/bbs-3.15-bioc/R/library' * installing *source* package 'INDEED' ... ** using staged installation ** R ** data *** moving datasets to lazyload DB ** inst ** byte-compile and prepare package for lazy loading ** help *** installing help indices converting help for package 'INDEED' finding HTML links ... done INDEED html Met_GU html Met_Group_GU html Met_name_GU html choose_rho html compute_cor html compute_dns html compute_par html loglik_ave html network_display html non_partial_cor html partial_cor html permutation_cor html permutation_pc html permutation_thres html pvalue_M_GU html pvalue_logit html scale_range html select_rho_partial html ** building package indices ** installing vignettes ** testing if installed package can be loaded from temporary location ** testing if installed package can be loaded from final location ** testing if installed package keeps a record of temporary installation path * DONE (INDEED) Making 'packages.html' ...Warning in packageDescription(i, lib.loc = lib, fields = "Title", encoding = "UTF-8") : DESCRIPTION file of package 'MultiBaC' is missing or broken Warning in packageDescription(i, lib.loc = lib, fields = "Title", encoding = "UTF-8") : DESCRIPTION file of package 'wpm' is missing or broken done