Package: INDEED Version: 2.10.0 Command: /home/biocbuild/bbs-3.15-bioc/R/bin/R CMD INSTALL INDEED StartedAt: 2022-10-18 15:33:46 -0400 (Tue, 18 Oct 2022) EndedAt: 2022-10-18 15:33:50 -0400 (Tue, 18 Oct 2022) EllapsedTime: 4.3 seconds RetCode: 0 Status: OK